Workbook
Name 祝日: 祝日!$A$2:$B$361
Name 祝日日付: 祝日!$A$2:$A$361
Name 祝日名称: 祝日!$B$2:$B$361

Sheet カレンダー
C1: 2024 | D1: 年 | E1: 11 | F1: 月 | G1: カレンダー
B2: 日 | D2: 月 | F2: 火 | H2: 水 | J2: 木 | L2: 金 | N2: 土
A3: 第1週目 | B3: =DATE($C$1,$E$1,1)-WEEKDAY(DATE($C$1,$E$1,1),2) -> 45592 | C3: =IF(ISERROR(MATCH(B3,祝日日付,0)),"",INDEX(祝日名称,MATCH(B3,祝日日付,0))) | D3: =B3+1 -> 45593 | E3: =IF(ISERROR(MATCH(D3,祝日日付,0)),"",INDEX(祝日名称,MATCH(D3,祝日日付,0))) | F3: =D3+1 -> 45594 | G3: =IF(ISERROR(MATCH(F3,祝日日付,0)),"",INDEX(祝日名称,MATCH(F3,祝日日付,0))) | H3: =F3+1 -> 45595 | I3: =IF(ISERROR(MATCH(H3,祝日日付,0)),"",INDEX(祝日名称,MATCH(H3,祝日日付,0))) | J3: =H3+1 -> 45596 | K3: =IF(ISERROR(MATCH(J3,祝日日付,0)),"",INDEX(祝日名称,MATCH(J3,祝日日付,0))) | L3: =J3+1 -> 45597 | M3: =IF(ISERROR(MATCH(L3,祝日日付,0)),"",INDEX(祝日名称,MATCH(L3,祝日日付,0))) | N3: =L3+1 -> 45598 | O3: =IF(ISERROR(MATCH(N3,祝日日付,0)),"",INDEX(祝日名称,MATCH(N3,祝日日付,0)))
B4: =IFERROR(VLOOKUP(B3,カレンダー予定!$G$3:$H$58,2,FALSE),"") | D4: =IFERROR(VLOOKUP(D3,カレンダー予定!$G$3:$H$58,2,FALSE),"") | F4: =IFERROR(VLOOKUP(F3,カレンダー予定!$G$3:$H$58,2,FALSE),"") | H4: =IFERROR(VLOOKUP(H3,カレンダー予定!$G$3:$H$58,2,FALSE),"") | J4: =IFERROR(VLOOKUP(J3,カレンダー予定!$G$3:$H$58,2,FALSE),"") | L4: =IFERROR(VLOOKUP(L3,カレンダー予定!$G$3:$H$58,2,FALSE),"") | N4: =IFERROR(VLOOKUP(N3,カレンダー予定!$G$3:$H$58,2,FALSE),"")
A8: 第2週目 | B8: =N3+1 -> 45599 | C8: =IF(ISERROR(MATCH(B8,祝日日付,0)),"",INDEX(祝日名称,MATCH(B8,祝日日付,0))) -> 文化の日 | D8: =B8+1 -> 45600 | E8: =IF(ISERROR(MATCH(D8,祝日日付,0)),"",INDEX(祝日名称,MATCH(D8,祝日日付,0))) -> 振替休日 | F8: =D8+1 -> 45601 | G8: =IF(ISERROR(MATCH(F8,祝日日付,0)),"",INDEX(祝日名称,MATCH(F8,祝日日付,0))) | H8: =F8+1 -> 45602 | I8: =IF(ISERROR(MATCH(H8,祝日日付,0)),"",INDEX(祝日名称,MATCH(H8,祝日日付,0))) | J8: =H8+1 -> 45603 | K8: =IF(ISERROR(MATCH(J8,祝日日付,0)),"",INDEX(祝日名称,MATCH(J8,祝日日付,0))) | L8: =J8+1 -> 45604 | M8: =IF(ISERROR(MATCH(L8,祝日日付,0)),"",INDEX(祝日名称,MATCH(L8,祝日日付,0))) | N8: =L8+1 -> 45605 | O8: =IF(ISERROR(MATCH(N8,祝日日付,0)),"",INDEX(祝日名称,MATCH(N8,祝日日付,0)))
B9: =IFERROR(VLOOKUP(B8,カレンダー予定!$G$3:$H$58,2,FALSE),"") | D9: =IFERROR(VLOOKUP(D8,カレンダー予定!$G$3:$H$58,2,FALSE),"") -> （例）第一月曜日 | F9: =IFERROR(VLOOKUP(F8,カレンダー予定!$G$3:$H$58,2,FALSE),"") | H9: =IFERROR(VLOOKUP(H8,カレンダー予定!$G$3:$H$58,2,FALSE),"") | J9: =IFERROR(VLOOKUP(J8,カレンダー予定!$G$3:$H$58,2,FALSE),"") | L9: =IFERROR(VLOOKUP(L8,カレンダー予定!$G$3:$H$58,2,FALSE),"") | N9: =IFERROR(VLOOKUP(N8,カレンダー予定!$G$3:$H$58,2,FALSE),"")
A13: 第3週目 | B13: =N8+1 -> 45606 | C13: =IF(ISERROR(MATCH(B13,祝日日付,0)),"",INDEX(祝日名称,MATCH(B13,祝日日付,0))) | D13: =B13+1 -> 45607 | E13: =IF(ISERROR(MATCH(D13,祝日日付,0)),"",INDEX(祝日名称,MATCH(D13,祝日日付,0))) | F13: =D13+1 -> 45608 | G13: =IF(ISERROR(MATCH(F13,祝日日付,0)),"",INDEX(祝日名称,MATCH(F13,祝日日付,0))) | H13: =F13+1 -> 45609 | I13: =IF(ISERROR(MATCH(H13,祝日日付,0)),"",INDEX(祝日名称,MATCH(H13,祝日日付,0))) | J13: =H13+1 -> 45610 | K13: =IF(ISERROR(MATCH(J13,祝日日付,0)),"",INDEX(祝日名称,MATCH(J13,祝日日付,0))) | L13: =J13+1 -> 45611 | M13: =IF(ISERROR(MATCH(L13,祝日日付,0)),"",INDEX(祝日名称,MATCH(L13,祝日日付,0))) | N13: =L13+1 -> 45612 | O13: =IF(ISERROR(MATCH(N13,祝日日付,0)),"",INDEX(祝日名称,MATCH(N13,祝日日付,0)))
B14: =IFERROR(VLOOKUP(B13,カレンダー予定!$G$3:$H$58,2,FALSE),"") | D14: =IFERROR(VLOOKUP(D13,カレンダー予定!$G$3:$H$58,2,FALSE),"") | F14: =IFERROR(VLOOKUP(F13,カレンダー予定!$G$3:$H$58,2,FALSE),"") | H14: =IFERROR(VLOOKUP(H13,カレンダー予定!$G$3:$H$58,2,FALSE),"") | J14: =IFERROR(VLOOKUP(J13,カレンダー予定!$G$3:$H$58,2,FALSE),"") | L14: =IFERROR(VLOOKUP(L13,カレンダー予定!$G$3:$H$58,2,FALSE),"") | N14: =IFERROR(VLOOKUP(N13,カレンダー予定!$G$3:$H$58,2,FALSE),"")
A18: 第4週目 | B18: =N13+1 -> 45613 | C18: =IF(ISERROR(MATCH(B18,祝日日付,0)),"",INDEX(祝日名称,MATCH(B18,祝日日付,0))) | D18: =B18+1 -> 45614 | E18: =IF(ISERROR(MATCH(D18,祝日日付,0)),"",INDEX(祝日名称,MATCH(D18,祝日日付,0))) | F18: =D18+1 -> 45615 | G18: =IF(ISERROR(MATCH(F18,祝日日付,0)),"",INDEX(祝日名称,MATCH(F18,祝日日付,0))) | H18: =F18+1 -> 45616 | I18: =IF(ISERROR(MATCH(H18,祝日日付,0)),"",INDEX(祝日名称,MATCH(H18,祝日日付,0))) | J18: =H18+1 -> 45617 | K18: =IF(ISERROR(MATCH(J18,祝日日付,0)),"",INDEX(祝日名称,MATCH(J18,祝日日付,0))) | L18: =J18+1 -> 45618 | M18: =IF(ISERROR(MATCH(L18,祝日日付,0)),"",INDEX(祝日名称,MATCH(L18,祝日日付,0))) | N18: =L18+1 -> 45619 | O18: =IF(ISERROR(MATCH(N18,祝日日付,0)),"",INDEX(祝日名称,MATCH(N18,祝日日付,0))) -> 勤労感謝の日
B19: =IFERROR(VLOOKUP(B18,カレンダー予定!$G$3:$H$58,2,FALSE),"") | D19: =IFERROR(VLOOKUP(D18,カレンダー予定!$G$3:$H$58,2,FALSE),"") | F19: =IFERROR(VLOOKUP(F18,カレンダー予定!$G$3:$H$58,2,FALSE),"") -> （例）飲み会 | H19: =IFERROR(VLOOKUP(H18,カレンダー予定!$G$3:$H$58,2,FALSE),"") | J19: =IFERROR(VLOOKUP(J18,カレンダー予定!$G$3:$H$58,2,FALSE),"") | L19: =IFERROR(VLOOKUP(L18,カレンダー予定!$G$3:$H$58,2,FALSE),"") | N19: =IFERROR(VLOOKUP(N18,カレンダー予定!$G$3:$H$58,2,FALSE),"") -> （例）第四土曜日
A23: 第5週目 | B23: =N18+1 -> 45620 | C23: =IF(ISERROR(MATCH(B23,祝日日付,0)),"",INDEX(祝日名称,MATCH(B23,祝日日付,0))) | D23: =B23+1 -> 45621 | E23: =IF(ISERROR(MATCH(D23,祝日日付,0)),"",INDEX(祝日名称,MATCH(D23,祝日日付,0))) | F23: =D23+1 -> 45622 | G23: =IF(ISERROR(MATCH(F23,祝日日付,0)),"",INDEX(祝日名称,MATCH(F23,祝日日付,0))) | H23: =F23+1 -> 45623 | I23: =IF(ISERROR(MATCH(H23,祝日日付,0)),"",INDEX(祝日名称,MATCH(H23,祝日日付,0))) | J23: =H23+1 -> 45624 | K23: =IF(ISERROR(MATCH(J23,祝日日付,0)),"",INDEX(祝日名称,MATCH(J23,祝日日付,0))) | L23: =J23+1 -> 45625 | M23: =IF(ISERROR(MATCH(L23,祝日日付,0)),"",INDEX(祝日名称,MATCH(L23,祝日日付,0))) | N23: =L23+1 -> 45626 | O23: =IF(ISERROR(MATCH(N23,祝日日付,0)),"",INDEX(祝日名称,MATCH(N23,祝日日付,0)))
B24: =IFERROR(VLOOKUP(B23,カレンダー予定!$G$3:$H$58,2,FALSE),"") | D24: =IFERROR(VLOOKUP(D23,カレンダー予定!$G$3:$H$58,2,FALSE),"") | F24: =IFERROR(VLOOKUP(F23,カレンダー予定!$G$3:$H$58,2,FALSE),"") | H24: =IFERROR(VLOOKUP(H23,カレンダー予定!$G$3:$H$58,2,FALSE),"") | J24: =IFERROR(VLOOKUP(J23,カレンダー予定!$G$3:$H$58,2,FALSE),"") -> （例）誕生日 | L24: =IFERROR(VLOOKUP(L23,カレンダー予定!$G$3:$H$58,2,FALSE),"") | N24: =IFERROR(VLOOKUP(N23,カレンダー予定!$G$3:$H$58,2,FALSE),"")
A28: 第6週目 | B28: =N23+1 -> 45627 | C28: =IF(ISERROR(MATCH(B28,祝日日付,0)),"",INDEX(祝日名称,MATCH(B28,祝日日付,0))) | D28: =B28+1 -> 45628 | E28: =IF(ISERROR(MATCH(D28,祝日日付,0)),"",INDEX(祝日名称,MATCH(D28,祝日日付,0))) | F28: =D28+1 -> 45629 | G28: =IF(ISERROR(MATCH(F28,祝日日付,0)),"",INDEX(祝日名称,MATCH(F28,祝日日付,0))) | H28: =F28+1 -> 45630 | I28: =IF(ISERROR(MATCH(H28,祝日日付,0)),"",INDEX(祝日名称,MATCH(H28,祝日日付,0))) | J28: =H28+1 -> 45631 | K28: =IF(ISERROR(MATCH(J28,祝日日付,0)),"",INDEX(祝日名称,MATCH(J28,祝日日付,0))) | L28: =J28+1 -> 45632 | M28: =IF(ISERROR(MATCH(L28,祝日日付,0)),"",INDEX(祝日名称,MATCH(L28,祝日日付,0))) | N28: =L28+1 -> 45633 | O28: =IF(ISERROR(MATCH(N28,祝日日付,0)),"",INDEX(祝日名称,MATCH(N28,祝日日付,0)))
B29: =IFERROR(VLOOKUP(B28,カレンダー予定!$G$3:$H$58,2,FALSE),"") | D29: =IFERROR(VLOOKUP(D28,カレンダー予定!$G$3:$H$58,2,FALSE),"") | F29: =IFERROR(VLOOKUP(F28,カレンダー予定!$G$3:$H$58,2,FALSE),"") | H29: =IFERROR(VLOOKUP(H28,カレンダー予定!$G$3:$H$58,2,FALSE),"") | J29: =IFERROR(VLOOKUP(J28,カレンダー予定!$G$3:$H$58,2,FALSE),"") | L29: =IFERROR(VLOOKUP(L28,カレンダー予定!$G$3:$H$58,2,FALSE),"") | N29: =IFERROR(VLOOKUP(N28,カレンダー予定!$G$3:$H$58,2,FALSE),"")

Sheet カレンダー予定
A1: 予定直接入力する。 | I1: =WEEKDAY(DATE(A44,B44,1),1) -> 6 | J1: 日 | K1: 月 | L1: 火 | M1: 水 | N1: 木 | O1: 金 | P1: 土
A2: 年 | B2: 月 | C2: 日 | H2: 予定 | J2: 1 | K2: 2 | L2: 3 | M2: 4 | N2: 5 | O2: 6 | P2: 7
A3: =カレンダー!$C$1 -> 2024 | B3: 11 | C3: 19 | G3: =IF(B3="","",(DATE($A3,$B3,$C3))) -> 45615 | H3: （例）飲み会
G4: =IF(B4="","",(DATE($A4,$B4,$C4)))
G5: =IF(B5="","",(DATE($A5,$B5,$C5)))
G6: =IF(B6="","",(DATE($A6,$B6,$C6)))
G7: =IF(B7="","",(DATE($A7,$B7,$C7)))
G8: =IF(B8="","",(DATE($A8,$B8,$C8)))
G9: =IF(B9="","",(DATE($A9,$B9,$C9)))
G10: =IF(B10="","",(DATE($A10,$B10,$C10)))
G11: =IF(B11="","",(DATE($A11,$B11,$C11)))
G12: =IF(B12="","",(DATE($A12,$B12,$C12)))
G13: =IF(B13="","",(DATE($A13,$B13,$C13)))
G14: =IF(B14="","",(DATE($A14,$B14,$C14)))
G15: =IF(B15="","",(DATE($A15,$B15,$C15)))
... G27: =IF(B27="","",(DATE($A27,$B27,$C27)))
A29: 毎年決まっている予定を表示する
A30: =カレンダー!$C$1 -> 2024 | B30: 月 | C30: 日 | H30: 予定
B31: 11 | C31: 28 | G31: =IF(B31="","",(DATE($A$30,$B31,$C31))) -> 45624 | H31: （例）誕生日
G32: =IF(B32="","",(DATE($A$30,$B32,$C32)))
G33: =IF(B33="","",(DATE($A$30,$B33,$C33)))
G34: =IF(B34="","",(DATE($A$30,$B34,$C34)))
G35: =IF(B35="","",(DATE($A$30,$B35,$C35)))
G36: =IF(B36="","",(DATE($A$30,$B36,$C36)))
G37: =IF(B37="","",(DATE($A$30,$B37,$C37)))
G38: =IF(B38="","",(DATE($A$30,$B38,$C38)))
G39: =IF(B39="","",(DATE($A$30,$B39,$C39)))
G40: =IF(B40="","",(DATE($A$30,$B40,$C40)))
G41: =IF(D41="","",(DATE($C$1,$D41,$E41)))
A42: 毎週決まった曜日の場合 | G42: =IF(D42="","",(DATE($C$1,$D42,$E42)))
A43: 年 | B43: 月 | H43: 予定
A44: 2024 | B44: 11 | C44: 第 | D44: 1 | E44: 月 | F44: 曜日 | G44: =IFERROR((DATE($A44,$B44,1)-($I$1-HLOOKUP($E44,$J$1:$P$2,2,FALSE)))+IF(($I$1-HLOOKUP($E44,$J$1:$P$2,2,FALSE)>0),($D44*7),($D44-1)*7),"") -> 45600 | H44: （例）第一月曜日
C45: 第 | F45: 曜日 | G45: =IFERROR((DATE($A45,$B45,1)-($I$1-HLOOKUP($E45,$J$1:$P$2,2,FALSE)))+IF(($I$1-HLOOKUP($E45,$J$1:$P$2,2,FALSE)>0),($D45*7),($D45-1)*7),"")
C46: 第 | F46: 曜日 | G46: =IFERROR((DATE($A46,$B46,1)-($I$1-HLOOKUP($E46,$J$1:$P$2,2,FALSE)))+IF(($I$1-HLOOKUP($E46,$J$1:$P$2,2,FALSE)>0),($D46*7),($D46-1)*7),"")
C47: 第 | F47: 曜日 | G47: =IFERROR((DATE($A47,$B47,1)-($I$1-HLOOKUP($E47,$J$1:$P$2,2,FALSE)))+IF(($I$1-HLOOKUP($E47,$J$1:$P$2,2,FALSE)>0),($D47*7),($D47-1)*7),"")
C48: 第 | F48: 曜日 | G48: =IFERROR((DATE($A48,$B48,1)-($I$1-HLOOKUP($E48,$J$1:$P$2,2,FALSE)))+IF(($I$1-HLOOKUP($E48,$J$1:$P$2,2,FALSE)>0),($D48*7),($D48-1)*7),"")
C49: 第 | F49: 曜日 | G49: =IFERROR((DATE($A49,$B49,1)-($I$1-HLOOKUP($E49,$J$1:$P$2,2,FALSE)))+IF(($I$1-HLOOKUP($E49,$J$1:$P$2,2,FALSE)>0),($D49*7),($D49-1)*7),"")
C50: 第 | F50: 曜日 | G50: =IFERROR((DATE($A50,$B50,1)-($I$1-HLOOKUP($E50,$J$1:$P$2,2,FALSE)))+IF(($I$1-HLOOKUP($E50,$J$1:$P$2,2,FALSE)>0),($D50*7),($D50-1)*7),"")
C51: 第 | F51: 曜日 | G51: =IFERROR((DATE($A51,$B51,1)-($I$1-HLOOKUP($E51,$J$1:$P$2,2,FALSE)))+IF(($I$1-HLOOKUP($E51,$J$1:$P$2,2,FALSE)>0),($D51*7),($D51-1)*7),"")
C52: 第 | F52: 曜日 | G52: =IFERROR((DATE($A52,$B52,1)-($I$1-HLOOKUP($E52,$J$1:$P$2,2,FALSE)))+IF(($I$1-HLOOKUP($E52,$J$1:$P$2,2,FALSE)>0),($D52*7),($D52-1)*7),"")
C53: 第 | F53: 曜日 | G53: =IFERROR((DATE($A53,$B53,1)-($I$1-HLOOKUP($E53,$J$1:$P$2,2,FALSE)))+IF(($I$1-HLOOKUP($E53,$J$1:$P$2,2,FALSE)>0),($D53*7),($D53-1)*7),"")
C54: 第 | F54: 曜日 | G54: =IFERROR((DATE($A54,$B54,1)-($I$1-HLOOKUP($E54,$J$1:$P$2,2,FALSE)))+IF(($I$1-HLOOKUP($E54,$J$1:$P$2,2,FALSE)>0),($D54*7),($D54-1)*7),"")
C55: 第 | F55: 曜日 | G55: =IFERROR((DATE($A55,$B55,1)-($I$1-HLOOKUP($E55,$J$1:$P$2,2,FALSE)))+IF(($I$1-HLOOKUP($E55,$J$1:$P$2,2,FALSE)>0),($D55*7),($D55-1)*7),"")
C56: 第 | F56: 曜日 | G56: =IFERROR((DATE($A56,$B56,1)-($I$1-HLOOKUP($E56,$J$1:$P$2,2,FALSE)))+IF(($I$1-HLOOKUP($E56,$J$1:$P$2,2,FALSE)>0),($D56*7),($D56-1)*7),"")
C57: 第 | F57: 曜日 | G57: =IFERROR((DATE($A57,$B57,1)-($I$1-HLOOKUP($E57,$J$1:$P$2,2,FALSE)))+IF(($I$1-HLOOKUP($E57,$J$1:$P$2,2,FALSE)>0),($D57*7),($D57-1)*7),"")
A58: 2024 | B58: 11 | C58: 第 | D58: 4 | E58: 土 | F58: 曜日 | G58: =IFERROR((DATE($A58,$B58,1)-($I$1-HLOOKUP($E58,$J$1:$P$2,2,FALSE)))+IF(($I$1-HLOOKUP($E58,$J$1:$P$2,2,FALSE)>0),($D58*7),($D58-1)*7),"") -> 45619 | H58: （例）第四土曜日

Sheet 祝日
A1: 祝日日付 | B1: 祝日名称
A2: 43466 | B2: 元日
A3: 43479 | B3: 成人の日
A4: 43507 | B4: 建国記念の日
A5: 43545 | B5: 春分の日
A6: 43584 | B6: 昭和の日
A7: 43585 | B7: 国民の休日
A8: 43586 | B8: 天皇の即位の日
A9: 43587 | B9: 国民の休日
A10: 43588 | B10: 憲法記念日
A11: 43589 | B11: みどりの日
A12: 43590 | B12: こどもの日
A13: 43591 | B13: 振替休日
... A350: 47810 | B350: 勤労感謝の日
