Workbook
Name A: #REF!
Name B: #REF!
Name 表①: #REF!
Name 表②: #REF!

Sheet sheet1
A1: 利用者 | C1: D+H | E1: E+I | I1: F+J | K1: G+K
A2: 日 | B2: 曜日 | C2: 大人 | G2: 計(A) | I2: 小人 | M2: 計(B) | O2: 計(C=A+B)
C3: 男 | E3: 女 | I3: 男 | K3: 女
C4: 市外 | D4: 市内 | E4: 市外 | F4: 市内 | G4: 市外 | H4: 市内 | I4: 市外 | J4: 市内 | K4: 市外 | L4: 市内 | M4: 市外 | N4: 市内 | O4: 市外 | P4: 市内
A5: 45566 | B5: =TEXT(A5,"aaa") -> 火 | C5: =INDIRECT("sheet2!D"&(ROW(Sheet2!D1)*3+2))+INDIRECT("sheet2!H"&(ROW(Sheet2!H1)*3+2)) -> 2 | D5: =INDIRECT("sheet2!D"&(ROW(Sheet2!D1)*3+3))+INDIRECT("sheet2!H"&(ROW(Sheet2!H1)*3+3)) -> 5 | E5: =INDIRECT("sheet2!E"&(ROW(Sheet2!E1)*3+2))+INDIRECT("sheet2!I"&(ROW(Sheet2!I1)*3+2)) -> 4 | F5: =INDIRECT("sheet2!E"&(ROW(Sheet2!E1)*3+3))+INDIRECT("sheet2!I"&(ROW(Sheet2!I1)*3+3)) -> 7 | G5: =SUM(C5,E5) -> 6 | H5: =SUM(D5,F5) -> 12 | I5: =INDIRECT("sheet2!F"&(ROW(Sheet2!F1)*3+2))+INDIRECT("sheet2!J"&(ROW(Sheet2!J1)*3+2)) -> 3 | J5: =INDIRECT("sheet2!F"&(ROW(Sheet2!F1)*3+3))+INDIRECT("sheet2!J"&(ROW(Sheet2!J1)*3+3)) -> 4 | K5: =INDIRECT("sheet2!G"&(ROW(Sheet2!G1)*3+2))+INDIRECT("sheet2!K"&(ROW(Sheet2!K1)*3+2)) -> 4 | L5: =INDIRECT("sheet2!G"&(ROW(Sheet2!G1)*3+3))+INDIRECT("sheet2!K"&(ROW(Sheet2!K1)*3+3)) -> 6 | M5: =SUM(I5,K5) -> 7 | N5: =SUM(J5,L5) -> 10 | O5: =SUM(G5,M5) -> 13 | P5: =SUM(H5,N5) -> 22 | R5: =SUM(O5:P5) -> 35
A6: 45567 | B6: =TEXT(A6,"aaa") -> 水 | G6: =SUM(C6,E6) -> 0 | H6: =SUM(D6,F6) -> 0 | M6: =SUM(I6,K6) -> 0 | N6: =SUM(J6,L6) -> 0 | O6: =SUM(G6,M6) -> 0 | P6: =SUM(H6,N6) -> 0 | R6: =SUM(O6:P6) -> 0
A7: 45568 | B7: =TEXT(A7,"aaa") -> 木 | G7: =SUM(C7,E7) -> 0 | H7: =SUM(D7,F7) -> 0 | M7: =SUM(I7,K7) -> 0 | N7: =SUM(J7,L7) -> 0 | O7: =SUM(G7,M7) -> 0 | P7: =SUM(H7,N7) -> 0 | R7: =SUM(O7:P7) -> 0
A8: 45569 | B8: =TEXT(A8,"aaa") -> 金 | G8: =SUM(C8,E8) -> 0 | H8: =SUM(D8,F8) -> 0 | M8: =SUM(I8,K8) -> 0 | N8: =SUM(J8,L8) -> 0 | O8: =SUM(G8,M8) -> 0 | P8: =SUM(H8,N8) -> 0 | R8: =SUM(O8:P8) -> 0
A9: 45570 | B9: =TEXT(A9,"aaa") -> 土 | G9: =SUM(C9,E9) -> 0 | H9: =SUM(D9,F9) -> 0 | M9: =SUM(I9,K9) -> 0 | N9: =SUM(J9,L9) -> 0 | O9: =SUM(G9,M9) -> 0 | P9: =SUM(H9,N9) -> 0 | R9: =SUM(O9:P9) -> 0
A10: 45571 | B10: =TEXT(A10,"aaa") -> 日 | G10: =SUM(C10,E10) -> 0 | H10: =SUM(D10,F10) -> 0 | M10: =SUM(I10,K10) -> 0 | N10: =SUM(J10,L10) -> 0 | O10: =SUM(G10,M10) -> 0 | P10: =SUM(H10,N10) -> 0 | R10: =SUM(O10:P10) -> 0
A11: 45572 | B11: =TEXT(A11,"aaa") -> 月 | G11: =SUM(C11,E11) -> 0 | H11: =SUM(D11,F11) -> 0 | M11: =SUM(I11,K11) -> 0 | N11: =SUM(J11,L11) -> 0 | O11: =SUM(G11,M11) -> 0 | P11: =SUM(H11,N11) -> 0 | R11: =SUM(O11:P11) -> 0
A12: 計 | C12: =SUM(C5:C11) -> 2 | D12: =SUM(D5:D11) -> 5 | E12: =SUM(E5:E11) -> 4 | F12: =SUM(F5:F11) -> 7 | G12: =SUM(G5:G11) -> 6 | H12: =SUM(H5:H11) -> 12 | I12: =SUM(I5:I11) -> 3 | J12: =SUM(J5:J11) -> 4 | ... P12: =SUM(P5:P11) -> 22 | R12: =SUM(O12:P12) -> 35
B14: 次の関数をセル「C5～F5」、「I5～L5」に入力します。
B16: ①、男 市外 =INDIRECT("sheet2!D"&(ROW(Sheet2!D1)*3+2))+INDIRECT("sheet2!H"&(ROW(Sheet2!H1)*3+2))
B17: ②、男 市内 =INDIRECT("sheet2!D"&(ROW(Sheet2!D1)*3+3))+INDIRECT("sheet2!H"&(ROW(Sheet2!H1)*3+3))
B18: ③、女 市外 =INDIRECT("sheet2!E"&(ROW(Sheet2!E1)*3+2))+INDIRECT("sheet2!I"&(ROW(Sheet2!I1)*3+2))
B19: ④、女 市内 =INDIRECT("sheet2!E"&(ROW(Sheet2!E1)*3+3))+INDIRECT("sheet2!I"&(ROW(Sheet2!I1)*3+3))
B21: ⑤、男 市外 =INDIRECT("sheet2!F"&(ROW(Sheet2!F1)*3+2))+INDIRECT("sheet2!J"&(ROW(Sheet2!J1)*3+2))
B22: ⑥、男 市内 =INDIRECT("sheet2!F"&(ROW(Sheet2!F1)*3+3))+INDIRECT("sheet2!J"&(ROW(Sheet2!J1)*3+3))
B23: ⑦、女 市外 =INDIRECT("sheet2!G"&(ROW(Sheet2!G1)*3+2))+INDIRECT("sheet2!K"&(ROW(Sheet2!K1)*3+2))
B24: ⑧、女 市内 =INDIRECT("sheet2!G"&(ROW(Sheet2!G1)*3+3))+INDIRECT("sheet2!K"&(ROW(Sheet2!K1)*3+3))
B26: 「C5～F5」と「I5～L5」をそれぞれ選択、下方へドラッグします。
B28: indirect-row-1.png

Sheet Sheet2
A1: 毎日計
D2: 午前 | H2: 午後 | L2: 合計
A3: 日 | B3: 曜日 | D3: 大人 | E3: 大人 | F3: 小人 | G3: 小人 | H3: 大人 | I3: 大人 | J3: 小人 | K3: 小人
D4: 男 | E4: 女 | F4: 男 | G4: 女 | H4: 男 | I4: 女 | J4: 男 | K4: 女 | L4: 大人 | M4: 小人 | N4: 男 | O4: 女
A5: 45566 | B5: =TEXT(A5,"aaa") -> 火 | C5: 市外 | D5: 1 | E5: 2 | F5: 2 | G5: 2 | H5: 1 | I5: 2 | J5: 1 | K5: 2 | L5: =SUMIF($D$3:$K$3,"大人",$D5:$K5) -> 6 | M5: =SUMIF($D$3:$K$3,"小人",$D5:$K5) -> 7 | N5: =SUMIF($D$4:$K$4,"男",$D5:$K5) -> 5 | O5: =SUMIF($D$4:$K$4,"女",$D5:$K5) -> 8
C6: 市内 | D6: 2 | E6: 3 | F6: 2 | G6: 3 | H6: 3 | I6: 4 | J6: 2 | K6: 3 | L6: =SUMIF($D$3:$K$3,"大人",$D6:$K6) -> 12 | M6: =SUMIF($D$3:$K$3,"小人",$D6:$K6) -> 10 | N6: =SUMIF($D$4:$K$4,"男",$D6:$K6) -> 9 | O6: =SUMIF($D$4:$K$4,"女",$D6:$K6) -> 13
C7: 計 | D7: =SUM(D5:D6) -> 3 | E7: =SUM(E5:E6) -> 5 | F7: =SUM(F5:F6) -> 4 | G7: =SUM(G5:G6) -> 5 | H7: =SUM(H5:H6) -> 4 | I7: =SUM(I5:I6) -> 6 | J7: =SUM(J5:J6) -> 3 | K7: =SUM(K5:K6) -> 5 | L7: =SUMIF($D$3:$K$3,"大人",$D7:$K7) -> 18 | M7: =SUMIF($D$3:$K$3,"小人",$D7:$K7) -> 17 | N7: =SUMIF($D$4:$K$4,"男",$D7:$K7) -> 14 | O7: =SUMIF($D$4:$K$4,"女",$D7:$K7) -> 21 | Q7: =SUM(L7:M7) -> 35 | R7: =SUM(N7:O7) -> 35
A8: 45567 | B8: =TEXT(A8,"aaa") -> 水 | C8: 市外 | D8: 3 | E8: 4 | F8: 3 | G8: 4 | H8: 3 | I8: 4 | J8: 3 | K8: 4 | L8: =SUMIF($D$3:$K$3,"大人",$D8:$K8) -> 14 | M8: =SUMIF($D$3:$K$3,"小人",$D8:$K8) -> 14 | N8: =SUMIF($D$4:$K$4,"男",$D8:$K8) -> 12 | O8: =SUMIF($D$4:$K$4,"女",$D8:$K8) -> 16
C9: 市内 | D9: 4 | E9: 5 | F9: 4 | G9: 5 | H9: 5 | I9: 6 | J9: 4 | K9: 5 | L9: =SUMIF($D$3:$K$3,"大人",$D9:$K9) -> 20 | M9: =SUMIF($D$3:$K$3,"小人",$D9:$K9) -> 18 | N9: =SUMIF($D$4:$K$4,"男",$D9:$K9) -> 17 | O9: =SUMIF($D$4:$K$4,"女",$D9:$K9) -> 21
C10: 計 | D10: =SUM(D8:D9) -> 7 | E10: =SUM(E8:E9) -> 9 | F10: =SUM(F8:F9) -> 7 | G10: =SUM(G8:G9) -> 9 | H10: =SUM(H8:H9) -> 8 | I10: =SUM(I8:I9) -> 10 | J10: =SUM(J8:J9) -> 7 | K10: =SUM(K8:K9) -> 9 | L10: =SUMIF($D$3:$K$3,"大人",$D10:$K10) -> 34 | M10: =SUMIF($D$3:$K$3,"小人",$D10:$K10) -> 32 | N10: =SUMIF($D$4:$K$4,"男",$D10:$K10) -> 29 | O10: =SUMIF($D$4:$K$4,"女",$D10:$K10) -> 37 | Q10: =SUM(L10:M10) -> 66 | R10: =SUM(N10:O10) -> 66
A11: 45568 | B11: =TEXT(A11,"aaa") -> 木 | C11: 市外 | D11: 5 | E11: 6 | F11: 5 | G11: 6 | H11: 5 | I11: 6 | J11: 5 | K11: 6 | L11: =SUMIF($D$3:$K$3,"大人",$D11:$K11) -> 22 | M11: =SUMIF($D$3:$K$3,"小人",$D11:$K11) -> 22 | N11: =SUMIF($D$4:$K$4,"男",$D11:$K11) -> 20 | O11: =SUMIF($D$4:$K$4,"女",$D11:$K11) -> 24
C12: 市内 | D12: 6 | E12: 7 | F12: 6 | G12: 7 | H12: 7 | I12: 8 | J12: 6 | K12: 7 | L12: =SUMIF($D$3:$K$3,"大人",$D12:$K12) -> 28 | M12: =SUMIF($D$3:$K$3,"小人",$D12:$K12) -> 26 | N12: =SUMIF($D$4:$K$4,"男",$D12:$K12) -> 25 | O12: =SUMIF($D$4:$K$4,"女",$D12:$K12) -> 29
C13: 計 | D13: =SUM(D11:D12) -> 11 | E13: =SUM(E11:E12) -> 13 | F13: =SUM(F11:F12) -> 11 | G13: =SUM(G11:G12) -> 13 | H13: =SUM(H11:H12) -> 12 | I13: =SUM(I11:I12) -> 14 | J13: =SUM(J11:J12) -> 11 | K13: =SUM(K11:K12) -> 13 | L13: =SUMIF($D$3:$K$3,"大人",$D13:$K13) -> 50 | M13: =SUMIF($D$3:$K$3,"小人",$D13:$K13) -> 48 | N13: =SUMIF($D$4:$K$4,"男",$D13:$K13) -> 45 | O13: =SUMIF($D$4:$K$4,"女",$D13:$K13) -> 53 | Q13: =SUM(L13:M13) -> 98 | R13: =SUM(N13:O13) -> 98
A14: 45569 | B14: =TEXT(A14,"aaa") -> 金 | C14: 市外 | D14: 7 | E14: 8 | F14: 7 | G14: 8 | H14: 7 | I14: 8 | J14: 7 | K14: 8 | L14: =SUMIF($D$3:$K$3,"大人",$D14:$K14) -> 30 | M14: =SUMIF($D$3:$K$3,"小人",$D14:$K14) -> 30 | N14: =SUMIF($D$4:$K$4,"男",$D14:$K14) -> 28 | O14: =SUMIF($D$4:$K$4,"女",$D14:$K14) -> 32
C15: 市内 | D15: 8 | E15: 9 | F15: 8 | G15: 9 | H15: 9 | I15: 10 | J15: 8 | K15: 9 | L15: =SUMIF($D$3:$K$3,"大人",$D15:$K15) -> 36 | M15: =SUMIF($D$3:$K$3,"小人",$D15:$K15) -> 34 | N15: =SUMIF($D$4:$K$4,"男",$D15:$K15) -> 33 | O15: =SUMIF($D$4:$K$4,"女",$D15:$K15) -> 37
C16: 計 | D16: =SUM(D14:D15) -> 15 | E16: =SUM(E14:E15) -> 17 | F16: =SUM(F14:F15) -> 15 | G16: =SUM(G14:G15) -> 17 | H16: =SUM(H14:H15) -> 16 | I16: =SUM(I14:I15) -> 18 | J16: =SUM(J14:J15) -> 15 | K16: =SUM(K14:K15) -> 17 | L16: =SUMIF($D$3:$K$3,"大人",$D16:$K16) -> 66 | M16: =SUMIF($D$3:$K$3,"小人",$D16:$K16) -> 64 | N16: =SUMIF($D$4:$K$4,"男",$D16:$K16) -> 61 | O16: =SUMIF($D$4:$K$4,"女",$D16:$K16) -> 69 | Q16: =SUM(L16:M16) -> 130 | R16: =SUM(N16:O16) -> 130
A17: 45570 | B17: =TEXT(A17,"aaa") -> 土 | C17: 市外 | D17: 9 | E17: 10 | F17: 9 | G17: 10 | H17: 1 | I17: 2 | J17: 9 | K17: 10 | L17: =SUMIF($D$3:$K$3,"大人",$D17:$K17) -> 22 | M17: =SUMIF($D$3:$K$3,"小人",$D17:$K17) -> 38 | N17: =SUMIF($D$4:$K$4,"男",$D17:$K17) -> 28 | O17: =SUMIF($D$4:$K$4,"女",$D17:$K17) -> 32
C18: 市内 | D18: 10 | E18: 11 | F18: 10 | G18: 11 | H18: 3 | I18: 4 | J18: 10 | K18: 11 | L18: =SUMIF($D$3:$K$3,"大人",$D18:$K18) -> 28 | M18: =SUMIF($D$3:$K$3,"小人",$D18:$K18) -> 42 | N18: =SUMIF($D$4:$K$4,"男",$D18:$K18) -> 33 | O18: =SUMIF($D$4:$K$4,"女",$D18:$K18) -> 37
C19: 計 | D19: =SUM(D17:D18) -> 19 | E19: =SUM(E17:E18) -> 21 | F19: =SUM(F17:F18) -> 19 | G19: =SUM(G17:G18) -> 21 | H19: =SUM(H17:H18) -> 4 | I19: =SUM(I17:I18) -> 6 | J19: =SUM(J17:J18) -> 19 | K19: =SUM(K17:K18) -> 21 | L19: =SUMIF($D$3:$K$3,"大人",$D19:$K19) -> 50 | M19: =SUMIF($D$3:$K$3,"小人",$D19:$K19) -> 80 | N19: =SUMIF($D$4:$K$4,"男",$D19:$K19) -> 61 | O19: =SUMIF($D$4:$K$4,"女",$D19:$K19) -> 69 | Q19: =SUM(L19:M19) -> 130 | R19: =SUM(N19:O19) -> 130
A20: 45571 | B20: =TEXT(A20,"aaa") -> 日 | C20: 市外 | D20: 11 | E20: 12 | F20: 11 | G20: 12 | H20: 5 | I20: 6 | J20: 11 | K20: 12 | L20: =SUMIF($D$3:$K$3,"大人",$D20:$K20) -> 34 | M20: =SUMIF($D$3:$K$3,"小人",$D20:$K20) -> 46 | N20: =SUMIF($D$4:$K$4,"男",$D20:$K20) -> 38 | O20: =SUMIF($D$4:$K$4,"女",$D20:$K20) -> 42
C21: 市内 | D21: 12 | E21: 13 | F21: 12 | G21: 13 | H21: 7 | I21: 8 | J21: 12 | K21: 13 | L21: =SUMIF($D$3:$K$3,"大人",$D21:$K21) -> 40 | M21: =SUMIF($D$3:$K$3,"小人",$D21:$K21) -> 50 | N21: =SUMIF($D$4:$K$4,"男",$D21:$K21) -> 43 | O21: =SUMIF($D$4:$K$4,"女",$D21:$K21) -> 47
C22: 計 | D22: =SUM(D20:D21) -> 23 | E22: =SUM(E20:E21) -> 25 | F22: =SUM(F20:F21) -> 23 | G22: =SUM(G20:G21) -> 25 | H22: =SUM(H20:H21) -> 12 | I22: =SUM(I20:I21) -> 14 | J22: =SUM(J20:J21) -> 23 | K22: =SUM(K20:K21) -> 25 | L22: =SUMIF($D$3:$K$3,"大人",$D22:$K22) -> 74 | M22: =SUMIF($D$3:$K$3,"小人",$D22:$K22) -> 96 | N22: =SUMIF($D$4:$K$4,"男",$D22:$K22) -> 81 | O22: =SUMIF($D$4:$K$4,"女",$D22:$K22) -> 89 | Q22: =SUM(L22:M22) -> 170 | R22: =SUM(N22:O22) -> 170
A23: 45572 | B23: =TEXT(A23,"aaa") -> 月 | C23: 市外 | D23: 13 | E23: 14 | F23: 13 | G23: 14 | H23: 9 | I23: 10 | J23: 13 | K23: 14 | L23: =SUMIF($D$3:$K$3,"大人",$D23:$K23) -> 46 | M23: =SUMIF($D$3:$K$3,"小人",$D23:$K23) -> 54 | N23: =SUMIF($D$4:$K$4,"男",$D23:$K23) -> 48 | O23: =SUMIF($D$4:$K$4,"女",$D23:$K23) -> 52
C24: 市内 | D24: 14 | E24: 15 | F24: 14 | G24: 15 | H24: 11 | I24: 12 | J24: 14 | K24: 15 | L24: =SUMIF($D$3:$K$3,"大人",$D24:$K24) -> 52 | M24: =SUMIF($D$3:$K$3,"小人",$D24:$K24) -> 58 | N24: =SUMIF($D$4:$K$4,"男",$D24:$K24) -> 53 | O24: =SUMIF($D$4:$K$4,"女",$D24:$K24) -> 57
C25: 計 | D25: =SUM(D23:D24) -> 27 | E25: =SUM(E23:E24) -> 29 | F25: =SUM(F23:F24) -> 27 | G25: =SUM(G23:G24) -> 29 | H25: =SUM(H23:H24) -> 20 | I25: =SUM(I23:I24) -> 22 | J25: =SUM(J23:J24) -> 27 | K25: =SUM(K23:K24) -> 29 | L25: =SUMIF($D$3:$K$3,"大人",$D25:$K25) -> 98 | M25: =SUMIF($D$3:$K$3,"小人",$D25:$K25) -> 112 | N25: =SUMIF($D$4:$K$4,"男",$D25:$K25) -> 101 | O25: =SUMIF($D$4:$K$4,"女",$D25:$K25) -> 109 | Q25: =SUM(L25:M25) -> 210 | R25: =SUM(N25:O25) -> 210
A26: 合計 | C26: 市外 | D26: =SUMIF($C5:$C25,"市外",D5:D25) -> 49 | E26: =SUMIF($C5:$C25,"市外",E5:E25) -> 56 | F26: =SUMIF($C5:$C25,"市外",F5:F25) -> 50 | G26: =SUMIF($C5:$C25,"市外",G5:G25) -> 56 | H26: =SUMIF($C5:$C25,"市外",H5:H25) -> 31 | I26: =SUMIF($C5:$C25,"市外",I5:I25) -> 38 | J26: =SUMIF($C5:$C25,"市外",J5:J25) -> 49 | K26: =SUMIF($C5:$C25,"市外",K5:K25) -> 56 | ... O26: =SUMIF($C5:$C25,"市外",O5:O25) -> 206
C27: 市内 | D27: =SUMIF($C6:$C26,"市内",D6:D26) -> 56 | E27: =SUMIF($C6:$C26,"市内",E6:E26) -> 63 | F27: =SUMIF($C6:$C26,"市内",F6:F26) -> 56 | G27: =SUMIF($C6:$C26,"市内",G6:G26) -> 63 | H27: =SUMIF($C6:$C26,"市内",H6:H26) -> 45 | I27: =SUMIF($C6:$C26,"市内",I6:I26) -> 52 | J27: =SUMIF($C6:$C26,"市内",J6:J26) -> 56 | K27: =SUMIF($C6:$C26,"市内",K6:K26) -> 63 | ... O27: =SUMIF($C6:$C26,"市内",O6:O26) -> 241
C28: 計 | D28: =SUMIF($C7:$C27,"計",D7:D27) -> 105 | E28: =SUMIF($C7:$C27,"計",E7:E27) -> 119 | F28: =SUMIF($C7:$C27,"計",F7:F27) -> 106 | G28: =SUMIF($C7:$C27,"計",G7:G27) -> 119 | H28: =SUMIF($C7:$C27,"計",H7:H27) -> 76 | I28: =SUMIF($C7:$C27,"計",I7:I27) -> 90 | J28: =SUMIF($C7:$C27,"計",J7:J27) -> 105 | K28: =SUMIF($C7:$C27,"計",K7:K27) -> 119 | ... O28: =SUMIF($C7:$C27,"計",O7:O27) -> 447 | Q28: =SUM(L28:M28) -> 839 | R28: =SUM(N28:O28) -> 839
B32: indirect-row-2.png

Sheet sheet3
A1: 利用者 | C1: D+H | E1: E+I | I1: F+J | K1: G+K
A2: 日 | B2: 曜日 | C2: 大人 | G2: 計(A) | I2: 小人 | M2: 計(B) | O2: 計(C=A+B)
C3: 男 | E3: 女 | I3: 男 | K3: 女
C4: 市外 | D4: 市内 | E4: 市外 | F4: 市内 | G4: 市外 | H4: 市内 | I4: 市外 | J4: 市内 | K4: 市外 | L4: 市内 | M4: 市外 | N4: 市内 | O4: 市外 | P4: 市内 | R4: 市内+市外
A5: 45566 | B5: =TEXT(A5,"aaa") -> 火 | C5: =INDIRECT("sheet2!D"&(ROW(Sheet2!D1)*3+2))+INDIRECT("sheet2!H"&(ROW(Sheet2!H1)*3+2)) -> 2 | D5: =INDIRECT("sheet2!D"&(ROW(Sheet2!D1)*3+3))+INDIRECT("sheet2!H"&(ROW(Sheet2!H1)*3+3)) -> 5 | E5: =INDIRECT("sheet2!E"&(ROW(Sheet2!E1)*3+2))+INDIRECT("sheet2!I"&(ROW(Sheet2!I1)*3+2)) -> 4 | F5: =INDIRECT("sheet2!E"&(ROW(Sheet2!E1)*3+3))+INDIRECT("sheet2!I"&(ROW(Sheet2!I1)*3+3)) -> 7 | G5: =SUM(C5,E5) -> 6 | H5: =SUM(D5,F5) -> 12 | I5: =INDIRECT("sheet2!F"&(ROW(Sheet2!F1)*3+2))+INDIRECT("sheet2!J"&(ROW(Sheet2!J1)*3+2)) -> 3 | J5: =INDIRECT("sheet2!F"&(ROW(Sheet2!F1)*3+3))+INDIRECT("sheet2!J"&(ROW(Sheet2!J1)*3+3)) -> 4 | K5: =INDIRECT("sheet2!G"&(ROW(Sheet2!G1)*3+2))+INDIRECT("sheet2!K"&(ROW(Sheet2!K1)*3+2)) -> 4 | L5: =INDIRECT("sheet2!G"&(ROW(Sheet2!G1)*3+3))+INDIRECT("sheet2!K"&(ROW(Sheet2!K1)*3+3)) -> 6 | M5: =SUM(I5,K5) -> 7 | N5: =SUM(J5,L5) -> 10 | O5: =SUM(G5,M5) -> 13 | P5: =SUM(H5,N5) -> 22 | R5: =SUM(O5:P5) -> 35
A6: 45567 | B6: =TEXT(A6,"aaa") -> 水 | C6: =INDIRECT("sheet2!D"&(ROW(Sheet2!D2)*3+2))+INDIRECT("sheet2!H"&(ROW(Sheet2!H2)*3+2)) -> 6 | D6: =INDIRECT("sheet2!D"&(ROW(Sheet2!D2)*3+3))+INDIRECT("sheet2!H"&(ROW(Sheet2!H2)*3+3)) -> 9 | E6: =INDIRECT("sheet2!E"&(ROW(Sheet2!E2)*3+2))+INDIRECT("sheet2!I"&(ROW(Sheet2!I2)*3+2)) -> 8 | F6: =INDIRECT("sheet2!E"&(ROW(Sheet2!E2)*3+3))+INDIRECT("sheet2!I"&(ROW(Sheet2!I2)*3+3)) -> 11 | G6: =SUM(C6,E6) -> 14 | H6: =SUM(D6,F6) -> 20 | I6: =INDIRECT("sheet2!F"&(ROW(Sheet2!F2)*3+2))+INDIRECT("sheet2!J"&(ROW(Sheet2!J2)*3+2)) -> 6 | J6: =INDIRECT("sheet2!F"&(ROW(Sheet2!F2)*3+3))+INDIRECT("sheet2!J"&(ROW(Sheet2!J2)*3+3)) -> 8 | K6: =INDIRECT("sheet2!G"&(ROW(Sheet2!G2)*3+2))+INDIRECT("sheet2!K"&(ROW(Sheet2!K2)*3+2)) -> 8 | L6: =INDIRECT("sheet2!G"&(ROW(Sheet2!G2)*3+3))+INDIRECT("sheet2!K"&(ROW(Sheet2!K2)*3+3)) -> 10 | M6: =SUM(I6,K6) -> 14 | N6: =SUM(J6,L6) -> 18 | O6: =SUM(G6,M6) -> 28 | P6: =SUM(H6,N6) -> 38 | R6: =SUM(O6:P6) -> 66
A7: 45568 | B7: =TEXT(A7,"aaa") -> 木 | C7: =INDIRECT("sheet2!D"&(ROW(Sheet2!D3)*3+2))+INDIRECT("sheet2!H"&(ROW(Sheet2!H3)*3+2)) -> 10 | D7: =INDIRECT("sheet2!D"&(ROW(Sheet2!D3)*3+3))+INDIRECT("sheet2!H"&(ROW(Sheet2!H3)*3+3)) -> 13 | E7: =INDIRECT("sheet2!E"&(ROW(Sheet2!E3)*3+2))+INDIRECT("sheet2!I"&(ROW(Sheet2!I3)*3+2)) -> 12 | F7: =INDIRECT("sheet2!E"&(ROW(Sheet2!E3)*3+3))+INDIRECT("sheet2!I"&(ROW(Sheet2!I3)*3+3)) -> 15 | G7: =SUM(C7,E7) -> 22 | H7: =SUM(D7,F7) -> 28 | I7: =INDIRECT("sheet2!F"&(ROW(Sheet2!F3)*3+2))+INDIRECT("sheet2!J"&(ROW(Sheet2!J3)*3+2)) -> 10 | J7: =INDIRECT("sheet2!F"&(ROW(Sheet2!F3)*3+3))+INDIRECT("sheet2!J"&(ROW(Sheet2!J3)*3+3)) -> 12 | K7: =INDIRECT("sheet2!G"&(ROW(Sheet2!G3)*3+2))+INDIRECT("sheet2!K"&(ROW(Sheet2!K3)*3+2)) -> 12 | L7: =INDIRECT("sheet2!G"&(ROW(Sheet2!G3)*3+3))+INDIRECT("sheet2!K"&(ROW(Sheet2!K3)*3+3)) -> 14 | M7: =SUM(I7,K7) -> 22 | N7: =SUM(J7,L7) -> 26 | O7: =SUM(G7,M7) -> 44 | P7: =SUM(H7,N7) -> 54 | R7: =SUM(O7:P7) -> 98
A8: 45569 | B8: =TEXT(A8,"aaa") -> 金 | C8: =INDIRECT("sheet2!D"&(ROW(Sheet2!D4)*3+2))+INDIRECT("sheet2!H"&(ROW(Sheet2!H4)*3+2)) -> 14 | D8: =INDIRECT("sheet2!D"&(ROW(Sheet2!D4)*3+3))+INDIRECT("sheet2!H"&(ROW(Sheet2!H4)*3+3)) -> 17 | E8: =INDIRECT("sheet2!E"&(ROW(Sheet2!E4)*3+2))+INDIRECT("sheet2!I"&(ROW(Sheet2!I4)*3+2)) -> 16 | F8: =INDIRECT("sheet2!E"&(ROW(Sheet2!E4)*3+3))+INDIRECT("sheet2!I"&(ROW(Sheet2!I4)*3+3)) -> 19 | G8: =SUM(C8,E8) -> 30 | H8: =SUM(D8,F8) -> 36 | I8: =INDIRECT("sheet2!F"&(ROW(Sheet2!F4)*3+2))+INDIRECT("sheet2!J"&(ROW(Sheet2!J4)*3+2)) -> 14 | J8: =INDIRECT("sheet2!F"&(ROW(Sheet2!F4)*3+3))+INDIRECT("sheet2!J"&(ROW(Sheet2!J4)*3+3)) -> 16 | K8: =INDIRECT("sheet2!G"&(ROW(Sheet2!G4)*3+2))+INDIRECT("sheet2!K"&(ROW(Sheet2!K4)*3+2)) -> 16 | L8: =INDIRECT("sheet2!G"&(ROW(Sheet2!G4)*3+3))+INDIRECT("sheet2!K"&(ROW(Sheet2!K4)*3+3)) -> 18 | M8: =SUM(I8,K8) -> 30 | N8: =SUM(J8,L8) -> 34 | O8: =SUM(G8,M8) -> 60 | P8: =SUM(H8,N8) -> 70 | R8: =SUM(O8:P8) -> 130
A9: 45570 | B9: =TEXT(A9,"aaa") -> 土 | C9: =INDIRECT("sheet2!D"&(ROW(Sheet2!D5)*3+2))+INDIRECT("sheet2!H"&(ROW(Sheet2!H5)*3+2)) -> 10 | D9: =INDIRECT("sheet2!D"&(ROW(Sheet2!D5)*3+3))+INDIRECT("sheet2!H"&(ROW(Sheet2!H5)*3+3)) -> 13 | E9: =INDIRECT("sheet2!E"&(ROW(Sheet2!E5)*3+2))+INDIRECT("sheet2!I"&(ROW(Sheet2!I5)*3+2)) -> 12 | F9: =INDIRECT("sheet2!E"&(ROW(Sheet2!E5)*3+3))+INDIRECT("sheet2!I"&(ROW(Sheet2!I5)*3+3)) -> 15 | G9: =SUM(C9,E9) -> 22 | H9: =SUM(D9,F9) -> 28 | I9: =INDIRECT("sheet2!F"&(ROW(Sheet2!F5)*3+2))+INDIRECT("sheet2!J"&(ROW(Sheet2!J5)*3+2)) -> 18 | J9: =INDIRECT("sheet2!F"&(ROW(Sheet2!F5)*3+3))+INDIRECT("sheet2!J"&(ROW(Sheet2!J5)*3+3)) -> 20 | K9: =INDIRECT("sheet2!G"&(ROW(Sheet2!G5)*3+2))+INDIRECT("sheet2!K"&(ROW(Sheet2!K5)*3+2)) -> 20 | L9: =INDIRECT("sheet2!G"&(ROW(Sheet2!G5)*3+3))+INDIRECT("sheet2!K"&(ROW(Sheet2!K5)*3+3)) -> 22 | M9: =SUM(I9,K9) -> 38 | N9: =SUM(J9,L9) -> 42 | O9: =SUM(G9,M9) -> 60 | P9: =SUM(H9,N9) -> 70 | R9: =SUM(O9:P9) -> 130
A10: 45571 | B10: =TEXT(A10,"aaa") -> 日 | C10: =INDIRECT("sheet2!D"&(ROW(Sheet2!D6)*3+2))+INDIRECT("sheet2!H"&(ROW(Sheet2!H6)*3+2)) -> 16 | D10: =INDIRECT("sheet2!D"&(ROW(Sheet2!D6)*3+3))+INDIRECT("sheet2!H"&(ROW(Sheet2!H6)*3+3)) -> 19 | E10: =INDIRECT("sheet2!E"&(ROW(Sheet2!E6)*3+2))+INDIRECT("sheet2!I"&(ROW(Sheet2!I6)*3+2)) -> 18 | F10: =INDIRECT("sheet2!E"&(ROW(Sheet2!E6)*3+3))+INDIRECT("sheet2!I"&(ROW(Sheet2!I6)*3+3)) -> 21 | G10: =SUM(C10,E10) -> 34 | H10: =SUM(D10,F10) -> 40 | I10: =INDIRECT("sheet2!F"&(ROW(Sheet2!F6)*3+2))+INDIRECT("sheet2!J"&(ROW(Sheet2!J6)*3+2)) -> 22 | J10: =INDIRECT("sheet2!F"&(ROW(Sheet2!F6)*3+3))+INDIRECT("sheet2!J"&(ROW(Sheet2!J6)*3+3)) -> 24 | K10: =INDIRECT("sheet2!G"&(ROW(Sheet2!G6)*3+2))+INDIRECT("sheet2!K"&(ROW(Sheet2!K6)*3+2)) -> 24 | L10: =INDIRECT("sheet2!G"&(ROW(Sheet2!G6)*3+3))+INDIRECT("sheet2!K"&(ROW(Sheet2!K6)*3+3)) -> 26 | M10: =SUM(I10,K10) -> 46 | N10: =SUM(J10,L10) -> 50 | O10: =SUM(G10,M10) -> 80 | P10: =SUM(H10,N10) -> 90 | R10: =SUM(O10:P10) -> 170
A11: 45572 | B11: =TEXT(A11,"aaa") -> 月 | C11: =INDIRECT("sheet2!D"&(ROW(Sheet2!D7)*3+2))+INDIRECT("sheet2!H"&(ROW(Sheet2!H7)*3+2)) -> 22 | D11: =INDIRECT("sheet2!D"&(ROW(Sheet2!D7)*3+3))+INDIRECT("sheet2!H"&(ROW(Sheet2!H7)*3+3)) -> 25 | E11: =INDIRECT("sheet2!E"&(ROW(Sheet2!E7)*3+2))+INDIRECT("sheet2!I"&(ROW(Sheet2!I7)*3+2)) -> 24 | F11: =INDIRECT("sheet2!E"&(ROW(Sheet2!E7)*3+3))+INDIRECT("sheet2!I"&(ROW(Sheet2!I7)*3+3)) -> 27 | G11: =SUM(C11,E11) -> 46 | H11: =SUM(D11,F11) -> 52 | I11: =INDIRECT("sheet2!F"&(ROW(Sheet2!F7)*3+2))+INDIRECT("sheet2!J"&(ROW(Sheet2!J7)*3+2)) -> 26 | J11: =INDIRECT("sheet2!F"&(ROW(Sheet2!F7)*3+3))+INDIRECT("sheet2!J"&(ROW(Sheet2!J7)*3+3)) -> 28 | K11: =INDIRECT("sheet2!G"&(ROW(Sheet2!G7)*3+2))+INDIRECT("sheet2!K"&(ROW(Sheet2!K7)*3+2)) -> 28 | L11: =INDIRECT("sheet2!G"&(ROW(Sheet2!G7)*3+3))+INDIRECT("sheet2!K"&(ROW(Sheet2!K7)*3+3)) -> 30 | M11: =SUM(I11,K11) -> 54 | N11: =SUM(J11,L11) -> 58 | O11: =SUM(G11,M11) -> 100 | P11: =SUM(H11,N11) -> 110 | R11: =SUM(O11:P11) -> 210
A12: 計 | C12: =SUM(C5:C11) -> 80 | D12: =SUM(D5:D11) -> 101 | E12: =SUM(E5:E11) -> 94 | F12: =SUM(F5:F11) -> 115 | G12: =SUM(G5:G11) -> 174 | H12: =SUM(H5:H11) -> 216 | I12: =SUM(I5:I11) -> 99 | J12: =SUM(J5:J11) -> 112 | ... P12: =SUM(P5:P11) -> 454 | R12: =SUM(O12:P12) -> 839
B15: indirect-row-3.png
